BEGIN:VCALENDAR
VERSION:2.0
PRODID:-//Osnabrücker Dampflokfreunde e.V. - ECPv6.15.20//NONSGML v1.0//EN
CALSCALE:GREGORIAN
METHOD:PUBLISH
X-WR-CALNAME:Osnabrücker Dampflokfreunde e.V.
X-ORIGINAL-URL:https://osnabruecker-dampflokfreunde.de
X-WR-CALDESC:Veranstaltungen für Osnabrücker Dampflokfreunde e.V.
REFRESH-INTERVAL;VALUE=DURATION:PT1H
X-Robots-Tag:noindex
X-PUBLISHED-TTL:PT1H
BEGIN:VTIMEZONE
TZID:Europe/Berlin
BEGIN:DAYLIGHT
TZOFFSETFROM:+0100
TZOFFSETTO:+0200
TZNAME:CEST
DTSTART:20250330T010000
END:DAYLIGHT
BEGIN:STANDARD
TZOFFSETFROM:+0200
TZOFFSETTO:+0100
TZNAME:CET
DTSTART:20251026T010000
END:STANDARD
BEGIN:DAYLIGHT
TZOFFSETFROM:+0100
TZOFFSETTO:+0200
TZNAME:CEST
DTSTART:20260329T010000
END:DAYLIGHT
BEGIN:STANDARD
TZOFFSETFROM:+0200
TZOFFSETTO:+0100
TZNAME:CET
DTSTART:20261025T010000
END:STANDARD
BEGIN:DAYLIGHT
TZOFFSETFROM:+0100
TZOFFSETTO:+0200
TZNAME:CEST
DTSTART:20270328T010000
END:DAYLIGHT
BEGIN:STANDARD
TZOFFSETFROM:+0200
TZOFFSETTO:+0100
TZNAME:CET
DTSTART:20271031T010000
END:STANDARD
END:VTIMEZONE
BEGIN:VEVENT
DTSTART;TZID=Europe/Berlin:20260424T130000
DTEND;TZID=Europe/Berlin:20260424T183000
DTSTAMP:20260424T023417
CREATED:20260215T123432Z
LAST-MODIFIED:20260408T181802Z
UID:1161-1777035600-1777055400@osnabruecker-dampflokfreunde.de
SUMMARY:Werksbesichtigung Dyckerhoff GmbH\, Lengerich - ausgebucht-
DESCRIPTION:Das 1872 gegründete Werk produziert jedes Jahr ca. 1\,7 Mio. Tonnen Zement und zählt zu den größten und modernsten Zementwerken Deutschlands (Quelle: www.dyckerhoff.com). Seit 1931 gehört das Werk zum Dyckerhoff Konzern. \nWir fahren vom Zechenbahnhof Piesberg über Osnabrück Altstadt nach Lengerich direkt zum Haupteingang des Zementwerks Dyckerhoff. Dies ist der Ausgangspunkt für eine Führung durch das Zementwerk. Am Eingang werden Sie von Beschäftigten des Werkes empfangen. Fachkundig erhalten Sie einen Einblick in die Fertigung von Zement. \nFahrzeiten:\nZechenbahnhof Piesberg              ab 13:00 Uhr           an 18:25 Uhr\nOsnabrück Altstadt                        ab 13:18 Uhr           an 18:08 Uhr\nZementwerk Dyckerhoff                an 14.00 Uhr           ab 17.00 Uhr\nFahrpreis inkl. Werksbesichtigung: Erwachsene 33\,– € Kinder (8-14 Jahre) 15\,- €/ Mindestalter 8 Jahre. Der Zug ist bewirtschaftet. \nDie Fahrt ist ausverkauft!
URL:https://osnabruecker-dampflokfreunde.de/event/werksbesichtigung-dyckerhoff-gmbh-zementwerk-lengerich/
CATEGORIES:Fahrplan
ATTACH;FMTTYPE=image/jpeg:https://osnabruecker-dampflokfreunde.de/wp-content/uploads/2026/02/IMG_2073-August-2007-4000-breit-scaled.jpg
END:VEVENT
END:VCALENDAR